BEGIN:VCALENDAR
VERSION:2.0
PRODID:spatie/icalendar-generator
DESCRIPTION:Events from Igreja Açores
X-WR-CALDESC:Events from Igreja Açores
REFRESH-INTERVAL;VALUE=DURATION:PT1440M
X-PUBLISHED-TTL:PT1440M
BEGIN:VTIMEZONE
TZID:Etc/GMT+0
BEGIN:STANDARD
DTSTART:20250211T200000Z
TZOFFSETFROM:+0000
TZOFFSETTO:+0000
END:STANDARD
END:VTIMEZONE
BEGIN:VTIMEZONE
TZID:UTC
BEGIN:STANDARD
DTSTART:20250726T223903Z
TZOFFSETFROM:+0000
TZOFFSETTO:+0000
END:STANDARD
END:VTIMEZONE
BEGIN:VEVENT
UID:1006-980
DTSTAMP:20260422T223903Z
SUMMARY:Vigília de Oração no âmbito da Semana dos Seminários na ouvido
 ria do Pico
LOCATION:
ORGANIZER;CN=Carmo Rodeia:MAILTO:carmorodeia@igrejaacores.pt
DTSTART;TZID=Etc/GMT+0:20251108T200000
DTEND;TZID=Etc/GMT+0:20251108T220000
X-ALT-DESC;FMTTYPE=TEXT/HTML:
CATEGORIES:Ouvidorias
URL;VALUE=URI:https://www.igrejaacores.pt/mc-events/vigilia-de-oracao-no-am
 bito-da-semana-dos-seminarios-na-ouvidoria-do-pico/
METHOD:PUBLISH
END:VEVENT
END:VCALENDAR