BEGIN:VCALENDAR
VERSION:2.0
PRODID:spatie/icalendar-generator
DESCRIPTION:Events from Igreja Açores
X-WR-CALDESC:Events from Igreja Açores
REFRESH-INTERVAL;VALUE=DURATION:PT1440M
X-PUBLISHED-TTL:PT1440M
BEGIN:VTIMEZONE
TZID:Etc/GMT+0
BEGIN:STANDARD
DTSTART:20250303T193000Z
TZOFFSETFROM:+0000
TZOFFSETTO:+0000
END:STANDARD
END:VTIMEZONE
BEGIN:VTIMEZONE
TZID:UTC
BEGIN:STANDARD
DTSTART:20250727T130516Z
TZOFFSETFROM:+0000
TZOFFSETTO:+0000
END:STANDARD
END:VTIMEZONE
BEGIN:VEVENT
UID:1008-982
DTSTAMP:20260423T130516Z
SUMMARY:Ouvidoria das capelas promove formação de catequistas
LOCATION:
ORGANIZER;CN=Carmo Rodeia:MAILTO:carmorodeia@igrejaacores.pt
DTSTART;TZID=Etc/GMT+0:20251128T193000
DTEND;TZID=Etc/GMT+0:20251129T200000
X-ALT-DESC;FMTTYPE=TEXT/HTML:[caption id=\"attachment_74840\" align=\"align
 center\" width=\"724\"] Cartaz do evento[/caption]
CATEGORIES:Ouvidorias
URL;VALUE=URI:https://www.igrejaacores.pt/mc-events/ouvidoria-das-capelas-p
 romove-formacao-de-catequistas/
METHOD:PUBLISH
END:VEVENT
END:VCALENDAR