BEGIN:VCALENDAR
VERSION:2.0
PRODID:spatie/icalendar-generator
DESCRIPTION:Events from Igreja Açores
X-WR-CALDESC:Events from Igreja Açores
REFRESH-INTERVAL;VALUE=DURATION:PT1440M
X-PUBLISHED-TTL:PT1440M
BEGIN:VTIMEZONE
TZID:Etc/GMT+0
BEGIN:STANDARD
DTSTART:20250225T090000Z
TZOFFSETFROM:+0000
TZOFFSETTO:+0000
END:STANDARD
END:VTIMEZONE
BEGIN:VTIMEZONE
TZID:UTC
BEGIN:STANDARD
DTSTART:20250727T063723Z
TZOFFSETFROM:+0000
TZOFFSETTO:+0000
END:STANDARD
END:VTIMEZONE
BEGIN:VEVENT
UID:1009-983
DTSTAMP:20260423T063723Z
SUMMARY:Retiro de Catequistas de São Miguel
LOCATION:
ORGANIZER;CN=Carmo Rodeia:MAILTO:carmorodeia@igrejaacores.pt
DTSTART;TZID=Etc/GMT+0:20251122T090000
DTEND;TZID=Etc/GMT+0:20251122T190000
X-ALT-DESC;FMTTYPE=TEXT/HTML:Realiza-se nas Capelas
CATEGORIES:Serviços Diocesanos
URL;VALUE=URI:https://www.igrejaacores.pt/mc-events/retiro-de-catequistas-d
 e-sao-miguel-2/
METHOD:PUBLISH
END:VEVENT
END:VCALENDAR