BEGIN:VCALENDAR
VERSION:2.0
PRODID:spatie/icalendar-generator
DESCRIPTION:Events from Igreja Açores
X-WR-CALDESC:Events from Igreja Açores
REFRESH-INTERVAL;VALUE=DURATION:PT1440M
X-PUBLISHED-TTL:PT1440M
BEGIN:VTIMEZONE
TZID:Etc/GMT+0
BEGIN:STANDARD
DTSTART:20250227T183000Z
TZOFFSETFROM:+0000
TZOFFSETTO:+0000
END:STANDARD
END:VTIMEZONE
BEGIN:VTIMEZONE
TZID:UTC
BEGIN:STANDARD
DTSTART:20250727T112713Z
TZOFFSETFROM:+0000
TZOFFSETTO:+0000
END:STANDARD
END:VTIMEZONE
BEGIN:VEVENT
UID:1013-987
DTSTAMP:20260423T112713Z
SUMMARY:Estudo dos Evangelhos Sinópticos
LOCATION:
ORGANIZER;CN=Carmo Rodeia:MAILTO:carmorodeia@igrejaacores.pt
DTSTART;TZID=Etc/GMT+0:20251124T183000
DTEND;TZID=Etc/GMT+0:20251124T193000
X-ALT-DESC;FMTTYPE=TEXT/HTML:Centro Paroquial da Matriz de São Sebastião\
 , Ponta Delgada (Durante o mês de novembro)
CATEGORIES:Ouvidorias
URL;VALUE=URI:https://www.igrejaacores.pt/mc-events/estudo-dos-evangelhos-s
 inopticos-3/
METHOD:PUBLISH
END:VEVENT
END:VCALENDAR