BEGIN:VCALENDAR
VERSION:2.0
PRODID:spatie/icalendar-generator
DESCRIPTION:Events from Igreja Açores
X-WR-CALDESC:Events from Igreja Açores
REFRESH-INTERVAL;VALUE=DURATION:PT1440M
X-PUBLISHED-TTL:PT1440M
BEGIN:VTIMEZONE
TZID:Etc/GMT+0
BEGIN:STANDARD
DTSTART:20251010T200000Z
TZOFFSETFROM:+0000
TZOFFSETTO:+0000
END:STANDARD
END:VTIMEZONE
BEGIN:VTIMEZONE
TZID:UTC
BEGIN:STANDARD
DTSTART:20250727T000042Z
TZOFFSETFROM:+0000
TZOFFSETTO:+0000
END:STANDARD
END:VTIMEZONE
BEGIN:VEVENT
UID:1044-1018
DTSTAMP:20260423T000042Z
SUMMARY:Encontros do Centro de Preparação para o Batismo na ouvidoria da 
 Horta
LOCATION:
ORGANIZER;CN=Carmo Rodeia:MAILTO:carmorodeia@igrejaacores.pt
DTSTART;TZID=Etc/GMT+0:20260707T200000
DTEND;TZID=Etc/GMT+0:20260707T220000
X-ALT-DESC;FMTTYPE=TEXT/HTML:7 de julho - 20h00 - igreja de Pedro Miguel
CATEGORIES:Ouvidorias
URL;VALUE=URI:https://www.igrejaacores.pt/mc-events/encontros-do-centro-de-
 preparacao-para-o-batismo-na-ouvidoria-da-horta-3/
METHOD:PUBLISH
END:VEVENT
END:VCALENDAR