BEGIN:VCALENDAR
VERSION:2.0
PRODID:spatie/icalendar-generator
DESCRIPTION:Events from Igreja Açores
X-WR-CALDESC:Events from Igreja Açores
REFRESH-INTERVAL;VALUE=DURATION:PT1440M
X-PUBLISHED-TTL:PT1440M
BEGIN:VTIMEZONE
TZID:Etc/GMT+0
BEGIN:STANDARD
DTSTART:20250621T200000Z
TZOFFSETFROM:+0000
TZOFFSETTO:+0000
END:STANDARD
END:VTIMEZONE
BEGIN:VTIMEZONE
TZID:UTC
BEGIN:STANDARD
DTSTART:20250726T155531Z
TZOFFSETFROM:+0000
TZOFFSETTO:+0000
END:STANDARD
END:VTIMEZONE
BEGIN:VEVENT
UID:1086-1059
DTSTAMP:20260422T155531Z
SUMMARY:Encontros com Jesus- Catequeses da Quaresma na Ouvidoria da Praia d
 a Vitória
LOCATION:
ORGANIZER;CN=Carmo Rodeia:MAILTO:carmorodeia@igrejaacores.pt
DTSTART;TZID=Etc/GMT+0:20260318T200000
DTEND;TZID=Etc/GMT+0:20260318T220000
X-ALT-DESC;FMTTYPE=TEXT/HTML:A Ouvidoria da Praia está a promover cateques
 es para o tempo da Quaresma\, tendo como temática os “Encontros com Jes
 us”. No dia 18 de março\, na Igreja Paroquial de Agualva- orador: Padre
  Marco Gomes
CATEGORIES:Ouvidorias
URL;VALUE=URI:https://www.igrejaacores.pt/mc-events/encontros-com-jesus-cat
 equeses-da-quaresma-na-ouvidoria-da-praia-da-vitoria-3/
METHOD:PUBLISH
END:VEVENT
END:VCALENDAR