BEGIN:VCALENDAR
VERSION:2.0
PRODID:spatie/icalendar-generator
DESCRIPTION:Events from Igreja Açores
X-WR-CALDESC:Events from Igreja Açores
REFRESH-INTERVAL;VALUE=DURATION:PT1440M
X-PUBLISHED-TTL:PT1440M
BEGIN:VTIMEZONE
TZID:Etc/GMT+0
BEGIN:STANDARD
DTSTART:20250624T093000Z
TZOFFSETFROM:+0000
TZOFFSETTO:+0000
END:STANDARD
END:VTIMEZONE
BEGIN:VTIMEZONE
TZID:UTC
BEGIN:STANDARD
DTSTART:20250726T160226Z
TZOFFSETFROM:+0000
TZOFFSETTO:+0000
END:STANDARD
END:VTIMEZONE
BEGIN:VEVENT
UID:1097-1069
DTSTAMP:20260422T160226Z
SUMMARY:Conferência “DILEXI TE – O Amor para com os Pobres”
LOCATION:
ORGANIZER;CN=Carmo Rodeia:MAILTO:carmorodeia@igrejaacores.pt
DTSTART;TZID=Etc/GMT+0:20260321T093000
DTEND;TZID=Etc/GMT+0:20260321T123000
X-ALT-DESC;FMTTYPE=TEXT/HTML:O Serviço Diocesano da Pastoral Social (SDPS)
  promove\, no próximo dia 21 de março\, a conferência subordinada ao te
 ma “Dilexi te – o amor para com os pobres”\, que terá lugar no Cent
 ro Pastoral Pio XII\, em Ponta Delgada\, informa uma nota enviada ao Síti
 o Igreja Açores. O programa terá início às 09h30 com o&amp;hellip\;
CATEGORIES:Serviços Diocesanos
URL;VALUE=URI:https://www.igrejaacores.pt/mc-events/conferencia-dilexi-te-o
 -amor-para-com-os-pobres/
METHOD:PUBLISH
END:VEVENT
END:VCALENDAR