BEGIN:VCALENDAR
VERSION:2.0
PRODID:spatie/icalendar-generator
DESCRIPTION:Events from Igreja Açores
X-WR-CALDESC:Events from Igreja Açores
REFRESH-INTERVAL;VALUE=DURATION:PT1440M
X-PUBLISHED-TTL:PT1440M
BEGIN:VTIMEZONE
TZID:Etc/GMT+0
BEGIN:STANDARD
DTSTART:20230404T000000Z
TZOFFSETFROM:+0000
TZOFFSETTO:+0000
END:STANDARD
END:VTIMEZONE
BEGIN:VTIMEZONE
TZID:UTC
BEGIN:STANDARD
DTSTART:20250724T172710Z
TZOFFSETFROM:+0000
TZOFFSETTO:+0000
END:STANDARD
END:VTIMEZONE
BEGIN:VEVENT
UID:164-159
DTSTAMP:20260420T172710Z
SUMMARY:Missa das Famílias
LOCATION:
ORGANIZER;CN=Carmo Rodeia:MAILTO:carmorodeia@igrejaacores.pt
DTSTART;TZID=Etc/GMT+0:20231230T000000
DTEND;TZID=Etc/GMT+0:20231230T010000
X-ALT-DESC;FMTTYPE=TEXT/HTML:Organiuzada pelo Movimento Cursilhos de Crista
 ndade\, na Sé de Angra.
CATEGORIES:Movimentos
URL;VALUE=URI:https://www.igrejaacores.pt/mc-events/missa-das-familias/
METHOD:PUBLISH
END:VEVENT
END:VCALENDAR