BEGIN:VCALENDAR
VERSION:2.0
PRODID:spatie/icalendar-generator
DESCRIPTION:Events from Igreja Açores
X-WR-CALDESC:Events from Igreja Açores
REFRESH-INTERVAL;VALUE=DURATION:PT1440M
X-PUBLISHED-TTL:PT1440M
BEGIN:VTIMEZONE
TZID:Etc/GMT+0
BEGIN:STANDARD
DTSTART:20230807T110000Z
TZOFFSETFROM:+0000
TZOFFSETTO:+0000
END:STANDARD
END:VTIMEZONE
BEGIN:VTIMEZONE
TZID:UTC
BEGIN:STANDARD
DTSTART:20250725T113539Z
TZOFFSETFROM:+0000
TZOFFSETTO:+0000
END:STANDARD
END:VTIMEZONE
BEGIN:VEVENT
UID:341-333
DTSTAMP:20260421T113539Z
SUMMARY:Bispo de Angra preside a Missa dos Doentes
LOCATION:
ORGANIZER;CN=Carmo Rodeia:MAILTO:carmorodeia@igrejaacores.pt
DTSTART;TZID=Etc/GMT+0:20240503T110000
DTEND;TZID=Etc/GMT+0:20240503T123000
X-ALT-DESC;FMTTYPE=TEXT/HTML:É celebrada na Igreja de São José\, às 11h
 00\, do dia 3 de maio.
CATEGORIES:Agenda do Bispo
URL;VALUE=URI:https://www.igrejaacores.pt/mc-events/bispo-de-angra-preside-
 a-missa-dos-doentes/
METHOD:PUBLISH
END:VEVENT
END:VCALENDAR