BEGIN:VCALENDAR
VERSION:2.0
PRODID:spatie/icalendar-generator
DESCRIPTION:Events from Igreja Açores
X-WR-CALDESC:Events from Igreja Açores
REFRESH-INTERVAL;VALUE=DURATION:PT1440M
X-PUBLISHED-TTL:PT1440M
BEGIN:VTIMEZONE
TZID:Etc/GMT+0
BEGIN:STANDARD
DTSTART:20230804T180000Z
TZOFFSETFROM:+0000
TZOFFSETTO:+0000
END:STANDARD
END:VTIMEZONE
BEGIN:VTIMEZONE
TZID:UTC
BEGIN:STANDARD
DTSTART:20250725T100722Z
TZOFFSETFROM:+0000
TZOFFSETTO:+0000
END:STANDARD
END:VTIMEZONE
BEGIN:VEVENT
UID:347-339
DTSTAMP:20260421T100722Z
SUMMARY:Festa do Senhor Santo Cristo dos Milagres
LOCATION:
ORGANIZER;CN=Carmo Rodeia:MAILTO:carmorodeia@igrejaacores.pt
DTSTART;TZID=Etc/GMT+0:20240430T180000
DTEND;TZID=Etc/GMT+0:20240430T190000
X-ALT-DESC;FMTTYPE=TEXT/HTML:Começa a 30 de abril e termina a 9 de maio ht
 tps://senhorsantocristo.com/2024/04/13/programa-das-festas-do-senhor-santo
 -cristo-dos-milagres-2024/ &amp;nbsp\;
CATEGORIES:Agenda do Bispo
URL;VALUE=URI:https://www.igrejaacores.pt/mc-events/festa-do-senhor-santo-c
 risto-dos-milagres-2/
METHOD:PUBLISH
END:VEVENT
END:VCALENDAR