BEGIN:VCALENDAR
VERSION:2.0
PRODID:spatie/icalendar-generator
DESCRIPTION:Events from Igreja Açores
X-WR-CALDESC:Events from Igreja Açores
REFRESH-INTERVAL;VALUE=DURATION:PT1440M
X-PUBLISHED-TTL:PT1440M
BEGIN:VTIMEZONE
TZID:Etc/GMT+0
BEGIN:STANDARD
DTSTART:20230822T210000Z
TZOFFSETFROM:+0000
TZOFFSETTO:+0000
END:STANDARD
END:VTIMEZONE
BEGIN:VTIMEZONE
TZID:UTC
BEGIN:STANDARD
DTSTART:20250725T145347Z
TZOFFSETFROM:+0000
TZOFFSETTO:+0000
END:STANDARD
END:VTIMEZONE
BEGIN:VEVENT
UID:348-340
DTSTAMP:20260421T145347Z
SUMMARY:Vigília de Pentecostes
LOCATION:
ORGANIZER;CN=Carmo Rodeia:MAILTO:carmorodeia@igrejaacores.pt
DTSTART;TZID=Etc/GMT+0:20240518T210000
DTEND;TZID=Etc/GMT+0:20240518T220000
X-ALT-DESC;FMTTYPE=TEXT/HTML:Igreja do sagrado Coração de Maria\, Ponta D
 elgada.
CATEGORIES:Movimentos
URL;VALUE=URI:https://www.igrejaacores.pt/mc-events/vigilia-de-pentecostes/
METHOD:PUBLISH
END:VEVENT
END:VCALENDAR