BEGIN:VCALENDAR
VERSION:2.0
PRODID:spatie/icalendar-generator
DESCRIPTION:Events from Igreja Açores
X-WR-CALDESC:Events from Igreja Açores
REFRESH-INTERVAL;VALUE=DURATION:PT1440M
X-PUBLISHED-TTL:PT1440M
BEGIN:VTIMEZONE
TZID:Etc/GMT+0
BEGIN:STANDARD
DTSTART:20240926T000000Z
TZOFFSETFROM:+0000
TZOFFSETTO:+0000
END:STANDARD
END:VTIMEZONE
BEGIN:VTIMEZONE
TZID:UTC
BEGIN:STANDARD
DTSTART:20250725T101239Z
TZOFFSETFROM:+0000
TZOFFSETTO:+0000
END:STANDARD
END:VTIMEZONE
BEGIN:VEVENT
UID:422-414
DTSTAMP:20260421T101239Z
SUMMARY:Jubileu dos Seminaristas
LOCATION:
ORGANIZER;CN=Carmo Rodeia:MAILTO:carmorodeia@igrejaacores.pt
DTSTART;TZID=Etc/GMT+0:20250623T000000
DTEND;TZID=Etc/GMT+0:20250624T010000
X-ALT-DESC;FMTTYPE=TEXT/HTML:Roma
CATEGORIES:Geral
URL;VALUE=URI:https://www.igrejaacores.pt/mc-events/jubileu-dos-seminarista
 s/
METHOD:PUBLISH
END:VEVENT
END:VCALENDAR