BEGIN:VCALENDAR
VERSION:2.0
PRODID:spatie/icalendar-generator
DESCRIPTION:Events from Igreja Açores
X-WR-CALDESC:Events from Igreja Açores
REFRESH-INTERVAL;VALUE=DURATION:PT1440M
X-PUBLISHED-TTL:PT1440M
BEGIN:VTIMEZONE
TZID:Etc/GMT+0
BEGIN:STANDARD
DTSTART:20240528T000000Z
TZOFFSETFROM:+0000
TZOFFSETTO:+0000
END:STANDARD
END:VTIMEZONE
BEGIN:VTIMEZONE
TZID:UTC
BEGIN:STANDARD
DTSTART:20250723T133808Z
TZOFFSETFROM:+0000
TZOFFSETTO:+0000
END:STANDARD
END:VTIMEZONE
BEGIN:VEVENT
UID:646-634
DTSTAMP:20260419T133808Z
SUMMARY:Jubileu dos Catequistas das Ilhas de São Miguel e Santa Maria
LOCATION:
ORGANIZER;CN=Carmo Rodeia:MAILTO:carmorodeia@igrejaacores.pt
DTSTART;TZID=Etc/GMT+0:20250222T000000
DTEND;TZID=Etc/GMT+0:20250222T010000
X-ALT-DESC;FMTTYPE=TEXT/HTML:– Convento da Esperança
CATEGORIES:Diocese
URL;VALUE=URI:https://www.igrejaacores.pt/mc-events/jubileu-dos-catequistas
 -das-ilhas-de-sao-miguel-e-santa-maria/
METHOD:PUBLISH
END:VEVENT
END:VCALENDAR