BEGIN:VCALENDAR
VERSION:2.0
PRODID:spatie/icalendar-generator
DESCRIPTION:Events from Igreja Açores
X-WR-CALDESC:Events from Igreja Açores
REFRESH-INTERVAL;VALUE=DURATION:PT1440M
X-PUBLISHED-TTL:PT1440M
BEGIN:VTIMEZONE
TZID:Etc/GMT+0
BEGIN:STANDARD
DTSTART:20221228T000000Z
TZOFFSETFROM:+0000
TZOFFSETTO:+0000
END:STANDARD
END:VTIMEZONE
BEGIN:VTIMEZONE
TZID:UTC
BEGIN:STANDARD
DTSTART:20250724T221755Z
TZOFFSETFROM:+0000
TZOFFSETTO:+0000
END:STANDARD
END:VTIMEZONE
BEGIN:VEVENT
UID:78-78
DTSTAMP:20260420T221755Z
SUMMARY:Arrear da bandeira da JMJ no ponto mais ocidental da Europa
LOCATION:
ORGANIZER;CN=Carmo Rodeia:MAILTO:carmorodeia@igrejaacores.pt
DTSTART;TZID=Etc/GMT+0;VALUE=DATE:20230924
DTEND;TZID=Etc/GMT+0;VALUE=DATE:20230925
X-ALT-DESC;FMTTYPE=TEXT/HTML:Bispo de Angra e o recém indicado cardeal D. 
 Américo Aguiar vão arrear a bandeira da Jornada Mundial da Juntude nas F
 lores\, o ponto mais ocidental da Europa. A cerimónia decorrerá no dia 2
 4 de setembro.
CATEGORIES:Agenda do Bispo
URL;VALUE=URI:https://www.igrejaacores.pt/mc-events/arrear-da-bandeira-da-j
 mj-no-ponto-mais-ocidental-da-europa/
METHOD:PUBLISH
END:VEVENT
END:VCALENDAR