BEGIN:VCALENDAR
VERSION:2.0
PRODID:spatie/icalendar-generator
DESCRIPTION:Events from Igreja Açores
X-WR-CALDESC:Events from Igreja Açores
REFRESH-INTERVAL;VALUE=DURATION:PT1440M
X-PUBLISHED-TTL:PT1440M
BEGIN:VTIMEZONE
TZID:Etc/GMT+0
BEGIN:STANDARD
DTSTART:20250220T200000Z
TZOFFSETFROM:+0000
TZOFFSETTO:+0000
END:STANDARD
END:VTIMEZONE
BEGIN:VTIMEZONE
TZID:UTC
BEGIN:STANDARD
DTSTART:20250726T231024Z
TZOFFSETFROM:+0000
TZOFFSETTO:+0000
END:STANDARD
END:VTIMEZONE
BEGIN:VEVENT
UID:827-802
DTSTAMP:20260422T231024Z
SUMMARY:Semana Biblica de São Miguel
LOCATION:
ORGANIZER;CN=Carmo Rodeia:MAILTO:carmorodeia@igrejaacores.pt
DTSTART;TZID=Etc/GMT+0:20251117T200000
DTEND;TZID=Etc/GMT+0:20251121T220000
X-ALT-DESC;FMTTYPE=TEXT/HTML:Ribeirinha
CATEGORIES:Serviços Diocesanos
URL;VALUE=URI:https://www.igrejaacores.pt/mc-events/semana-biblica-de-sao-m
 iguel-2/
METHOD:PUBLISH
END:VEVENT
END:VCALENDAR