BEGIN:VCALENDAR
VERSION:2.0
PRODID:spatie/icalendar-generator
DESCRIPTION:Events from Igreja Açores
X-WR-CALDESC:Events from Igreja Açores
REFRESH-INTERVAL;VALUE=DURATION:PT1440M
X-PUBLISHED-TTL:PT1440M
BEGIN:VTIMEZONE
TZID:Etc/GMT+0
BEGIN:STANDARD
DTSTART:20250321T000000Z
TZOFFSETFROM:+0000
TZOFFSETTO:+0000
END:STANDARD
END:VTIMEZONE
BEGIN:VTIMEZONE
TZID:UTC
BEGIN:STANDARD
DTSTART:20250726T220807Z
TZOFFSETFROM:+0000
TZOFFSETTO:+0000
END:STANDARD
END:VTIMEZONE
BEGIN:VEVENT
UID:843-818
DTSTAMP:20260422T220807Z
SUMMARY:Aniversário da Ordenação Episcopal do Bispo de Angra\, D. Armand
 o Esteves Domingues
LOCATION:
ORGANIZER;CN=Carmo Rodeia:MAILTO:carmorodeia@igrejaacores.pt
DTSTART;TZID=Etc/GMT+0:20251216T000000
DTEND;TZID=Etc/GMT+0:20251216T010000
X-ALT-DESC;FMTTYPE=TEXT/HTML:
CATEGORIES:Diocese
URL;VALUE=URI:https://www.igrejaacores.pt/mc-events/aniversario-da-ordenaca
 o-episcopal-do-bispo-de-angra-d-armando-esteves-domingues/
METHOD:PUBLISH
END:VEVENT
END:VCALENDAR