BEGIN:VCALENDAR
VERSION:2.0
PRODID:spatie/icalendar-generator
DESCRIPTION:Events from Igreja Açores
X-WR-CALDESC:Events from Igreja Açores
REFRESH-INTERVAL;VALUE=DURATION:PT1440M
X-PUBLISHED-TTL:PT1440M
BEGIN:VTIMEZONE
TZID:Etc/GMT+0
BEGIN:STANDARD
DTSTART:20250401T000000Z
TZOFFSETFROM:+0000
TZOFFSETTO:+0000
END:STANDARD
END:VTIMEZONE
BEGIN:VTIMEZONE
TZID:UTC
BEGIN:STANDARD
DTSTART:20250726T185522Z
TZOFFSETFROM:+0000
TZOFFSETTO:+0000
END:STANDARD
END:VTIMEZONE
BEGIN:VEVENT
UID:846-821
DTSTAMP:20260422T185522Z
SUMMARY:Missa das Famílias- MCC
LOCATION:
ORGANIZER;CN=Carmo Rodeia:MAILTO:carmorodeia@igrejaacores.pt
DTSTART;TZID=Etc/GMT+0:20251227T000000
DTEND;TZID=Etc/GMT+0:20251227T010000
X-ALT-DESC;FMTTYPE=TEXT/HTML:Angra do Heroísmo
CATEGORIES:Movimentos
URL;VALUE=URI:https://www.igrejaacores.pt/mc-events/missa-das-familias-mcc-
 2/
METHOD:PUBLISH
END:VEVENT
END:VCALENDAR