BEGIN:VCALENDAR
VERSION:2.0
PRODID:spatie/icalendar-generator
DESCRIPTION:Events from Igreja Açores
X-WR-CALDESC:Events from Igreja Açores
REFRESH-INTERVAL;VALUE=DURATION:PT1440M
X-PUBLISHED-TTL:PT1440M
BEGIN:VTIMEZONE
TZID:Etc/GMT+0
BEGIN:STANDARD
DTSTART:20230103T110000Z
TZOFFSETFROM:+0000
TZOFFSETTO:+0000
END:STANDARD
END:VTIMEZONE
BEGIN:VTIMEZONE
TZID:UTC
BEGIN:STANDARD
DTSTART:20250725T000203Z
TZOFFSETFROM:+0000
TZOFFSETTO:+0000
END:STANDARD
END:VTIMEZONE
BEGIN:VEVENT
UID:85-85
DTSTAMP:20260421T000203Z
SUMMARY:Bispo Crisma em Ponta Delgada
LOCATION:
ORGANIZER;CN=Carmo Rodeia:MAILTO:carmorodeia@igrejaacores.pt
DTSTART;TZID=Etc/GMT+0:20230930T110000
DTEND;TZID=Etc/GMT+0:20231001T180000
X-ALT-DESC;FMTTYPE=TEXT/HTML:No dia 30 de setembro às 11h00 e 16h00 serão
  celebradas duas eucaristias na igreja de Nossa Senhora de Fátima. No dom
 ingo\, às 11h00\, será a vez da igreja de São José acolher os crismand
 os da cidade de Ponta Delgada e\, à tarde\, pelas 16h00\, nas Feteiras re
 aliza-se a última celebração.
CATEGORIES:Agenda do Bispo
URL;VALUE=URI:https://www.igrejaacores.pt/mc-events/bispo-crisma-em-ponta-d
 elgada/
METHOD:PUBLISH
END:VEVENT
END:VCALENDAR