BEGIN:VCALENDAR
VERSION:2.0
PRODID:spatie/icalendar-generator
DESCRIPTION:Events from Igreja Açores
X-WR-CALDESC:Events from Igreja Açores
REFRESH-INTERVAL;VALUE=DURATION:PT1440M
X-PUBLISHED-TTL:PT1440M
BEGIN:VTIMEZONE
TZID:Etc/GMT+0
BEGIN:STANDARD
DTSTART:20250604T000000Z
TZOFFSETFROM:+0000
TZOFFSETTO:+0000
END:STANDARD
END:VTIMEZONE
BEGIN:VTIMEZONE
TZID:UTC
BEGIN:STANDARD
DTSTART:20250726T155519Z
TZOFFSETFROM:+0000
TZOFFSETTO:+0000
END:STANDARD
END:VTIMEZONE
BEGIN:VEVENT
UID:877-852
DTSTAMP:20260422T155519Z
SUMMARY:Reflexão Quaresmal - CIRP
LOCATION:
ORGANIZER;CN=Carmo Rodeia:MAILTO:carmorodeia@igrejaacores.pt
DTSTART;TZID=Etc/GMT+0;VALUE=DATE:20260301
DTEND;TZID=Etc/GMT+0;VALUE=DATE:20260302
X-ALT-DESC;FMTTYPE=TEXT/HTML:São Miguel
CATEGORIES:Movimentos
URL;VALUE=URI:https://www.igrejaacores.pt/mc-events/reflexao-quaresmal-cirp
 /
METHOD:PUBLISH
END:VEVENT
END:VCALENDAR