BEGIN:VCALENDAR
VERSION:2.0
PRODID:spatie/icalendar-generator
DESCRIPTION:Events from Igreja Açores
X-WR-CALDESC:Events from Igreja Açores
REFRESH-INTERVAL;VALUE=DURATION:PT1440M
X-PUBLISHED-TTL:PT1440M
BEGIN:VTIMEZONE
TZID:Etc/GMT+0
BEGIN:STANDARD
DTSTART:20250813T000000Z
TZOFFSETFROM:+0000
TZOFFSETTO:+0000
END:STANDARD
END:VTIMEZONE
BEGIN:VTIMEZONE
TZID:UTC
BEGIN:STANDARD
DTSTART:20250726T224009Z
TZOFFSETFROM:+0000
TZOFFSETTO:+0000
END:STANDARD
END:VTIMEZONE
BEGIN:VEVENT
UID:896-871
DTSTAMP:20260422T224009Z
SUMMARY:Domingo do Senhor Santo Cristo dos Milagres
LOCATION:
ORGANIZER;CN=Carmo Rodeia:MAILTO:carmorodeia@igrejaacores.pt
DTSTART;TZID=Etc/GMT+0:20260510T000000
DTEND;TZID=Etc/GMT+0:20260510T010000
X-ALT-DESC;FMTTYPE=TEXT/HTML:A festa decorre em Ponta Delgada entre os dias
  8 e 14 de maio. O tríduo preparatório  será de 5 a 7 de meio\, às 18
 h00\, na Igreja de Noss Senhora da Esperança\, santuário do Senhor Santo
  Cristo dos Milagres\, em Ponta Delgada.
CATEGORIES:Diocese
URL;VALUE=URI:https://www.igrejaacores.pt/mc-events/domingo-do-senhor-santo
 -cristo-dos-milagres-2/
METHOD:PUBLISH
END:VEVENT
END:VCALENDAR