BEGIN:VCALENDAR
VERSION:2.0
PRODID:spatie/icalendar-generator
DESCRIPTION:Events from Igreja Açores
X-WR-CALDESC:Events from Igreja Açores
REFRESH-INTERVAL;VALUE=DURATION:PT1440M
X-PUBLISHED-TTL:PT1440M
BEGIN:VTIMEZONE
TZID:Etc/GMT+0
BEGIN:STANDARD
DTSTART:20250816T000000Z
TZOFFSETFROM:+0000
TZOFFSETTO:+0000
END:STANDARD
END:VTIMEZONE
BEGIN:VTIMEZONE
TZID:UTC
BEGIN:STANDARD
DTSTART:20250727T005734Z
TZOFFSETFROM:+0000
TZOFFSETTO:+0000
END:STANDARD
END:VTIMEZONE
BEGIN:VEVENT
UID:897-872
DTSTAMP:20260423T005734Z
SUMMARY:Festa de Nossa Senhora do Rosário de Fátima
LOCATION:
ORGANIZER;CN=Carmo Rodeia:MAILTO:carmorodeia@igrejaacores.pt
DTSTART;TZID=Etc/GMT+0:20260513T000000
DTEND;TZID=Etc/GMT+0:20260513T010000
X-ALT-DESC;FMTTYPE=TEXT/HTML:
CATEGORIES:Geral
URL;VALUE=URI:https://www.igrejaacores.pt/mc-events/festa-de-nossa-senhora-
 do-rosario-de-fatima/
METHOD:PUBLISH
END:VEVENT
END:VCALENDAR