BEGIN:VCALENDAR
VERSION:2.0
PRODID:spatie/icalendar-generator
DESCRIPTION:Events from Igreja Açores
X-WR-CALDESC:Events from Igreja Açores
REFRESH-INTERVAL;VALUE=DURATION:PT1440M
X-PUBLISHED-TTL:PT1440M
BEGIN:VTIMEZONE
TZID:Etc/GMT+0
BEGIN:STANDARD
DTSTART:20251109T000000Z
TZOFFSETFROM:+0000
TZOFFSETTO:+0000
END:STANDARD
END:VTIMEZONE
BEGIN:VTIMEZONE
TZID:UTC
BEGIN:STANDARD
DTSTART:20250727T112844Z
TZOFFSETFROM:+0000
TZOFFSETTO:+0000
END:STANDARD
END:VTIMEZONE
BEGIN:VEVENT
UID:919-894
DTSTAMP:20260423T112844Z
SUMMARY:Festa da Transfiguração do Senhor- Titular da Igreja Catedral
LOCATION:
ORGANIZER;CN=Carmo Rodeia:MAILTO:carmorodeia@igrejaacores.pt
DTSTART;TZID=Etc/GMT+0:20260806T000000
DTEND;TZID=Etc/GMT+0:20260806T010000
X-ALT-DESC;FMTTYPE=TEXT/HTML:
CATEGORIES:Diocese
URL;VALUE=URI:https://www.igrejaacores.pt/mc-events/festa-da-transfiguracao
 -do-senhor-titular-da-igreja-catedral/
METHOD:PUBLISH
END:VEVENT
END:VCALENDAR