BEGIN:VCALENDAR
VERSION:2.0
PRODID:spatie/icalendar-generator
DESCRIPTION:Events from Igreja Açores
X-WR-CALDESC:Events from Igreja Açores
REFRESH-INTERVAL;VALUE=DURATION:PT1440M
X-PUBLISHED-TTL:PT1440M
BEGIN:VTIMEZONE
TZID:Etc/GMT+0
BEGIN:STANDARD
DTSTART:20250222T193000Z
TZOFFSETFROM:+0000
TZOFFSETTO:+0000
END:STANDARD
END:VTIMEZONE
BEGIN:VTIMEZONE
TZID:UTC
BEGIN:STANDARD
DTSTART:20250727T004251Z
TZOFFSETFROM:+0000
TZOFFSETTO:+0000
END:STANDARD
END:VTIMEZONE
BEGIN:VEVENT
UID:1007-981
DTSTAMP:20260423T004251Z
SUMMARY:Sessão de esclarecimento sobre a Nulidade do Matrimónio
LOCATION:
ORGANIZER;CN=Carmo Rodeia:MAILTO:carmorodeia@igrejaacores.pt
DTSTART;TZID=Etc/GMT+0:20251119T193000
DTEND;TZID=Etc/GMT+0:20251119T210000
X-ALT-DESC;FMTTYPE=TEXT/HTML:
CATEGORIES:Ouvidorias
URL;VALUE=URI:https://www.igrejaacores.pt/mc-events/sessao-de-esclareciment
 o-sobre-a-nulidade-do-matrimonio/
METHOD:PUBLISH
END:VEVENT
END:VCALENDAR