BEGIN:VCALENDAR
VERSION:2.0
PRODID:spatie/icalendar-generator
DESCRIPTION:Events from Igreja Açores
X-WR-CALDESC:Events from Igreja Açores
REFRESH-INTERVAL;VALUE=DURATION:PT1440M
X-PUBLISHED-TTL:PT1440M
BEGIN:VTIMEZONE
TZID:Etc/GMT+0
BEGIN:STANDARD
DTSTART:20250623T193000Z
TZOFFSETFROM:+0000
TZOFFSETTO:+0000
END:STANDARD
END:VTIMEZONE
BEGIN:VTIMEZONE
TZID:UTC
BEGIN:STANDARD
DTSTART:20250726T140220Z
TZOFFSETFROM:+0000
TZOFFSETTO:+0000
END:STANDARD
END:VTIMEZONE
BEGIN:VEVENT
UID:1096-1068
DTSTAMP:20260422T140220Z
SUMMARY:Retiro Esquema Zero- Movimento da Mensagem de Fátima
LOCATION:
ORGANIZER;CN=Carmo Rodeia:MAILTO:carmorodeia@igrejaacores.pt
DTSTART;TZID=Etc/GMT+0:20260320T193000
DTEND;TZID=Etc/GMT+0:20260322T150000
X-ALT-DESC;FMTTYPE=TEXT/HTML:Local: Seminário de Angra - Centro Pastoral 
 Beato João Baptista Machado Início: 20 de Março - às 19H30 (vir já j
 antado/a) Fim: 22 de Março - às 15H00 (com missa de encerramento aberta
  a familiares e amigos) Trazer: Garrafa de água\, saco-cama\, fronha\, to
 alha\, Bíblia\, Terço\, higiene pessoal\, instrumento musical (caso saib
 as tocar)\; Valor da Inscrição: 25€ {entregar&amp;hellip\;
CATEGORIES:Movimentos
URL;VALUE=URI:https://www.igrejaacores.pt/mc-events/retiro-esquema-zero-mov
 imento-da-mensagem-de-fatima/
METHOD:PUBLISH
END:VEVENT
END:VCALENDAR