BEGIN:VCALENDAR
VERSION:2.0
PRODID:spatie/icalendar-generator
DESCRIPTION:Events from Igreja Açores
X-WR-CALDESC:Events from Igreja Açores
REFRESH-INTERVAL;VALUE=DURATION:PT1440M
X-PUBLISHED-TTL:PT1440M
BEGIN:VTIMEZONE
TZID:Etc/GMT+0
BEGIN:STANDARD
DTSTART:20230411T000000Z
TZOFFSETFROM:+0000
TZOFFSETTO:+0000
END:STANDARD
END:VTIMEZONE
BEGIN:VTIMEZONE
TZID:UTC
BEGIN:STANDARD
DTSTART:20250724T173254Z
TZOFFSETFROM:+0000
TZOFFSETTO:+0000
END:STANDARD
END:VTIMEZONE
BEGIN:VEVENT
UID:212-206
DTSTAMP:20260420T173254Z
SUMMARY:Recolha de Mealheiros - Infância Missionária
LOCATION:
ORGANIZER;CN=Carmo Rodeia:MAILTO:carmorodeia@igrejaacores.pt
DTSTART;TZID=Etc/GMT+0:20240106T000000
DTEND;TZID=Etc/GMT+0:20240106T010000
X-ALT-DESC;FMTTYPE=TEXT/HTML:Iniciativa do Serviço Diocesano para a Evange
 lização\, Catequese e Missões. Igreja Paroquial do Cabo da Praia Igreja
  Matriz das Capelas
CATEGORIES:Serviços Diocesanos
URL;VALUE=URI:https://www.igrejaacores.pt/mc-events/recolha-de-mealheiros-i
 nfancia-missionaria/
METHOD:PUBLISH
END:VEVENT
END:VCALENDAR