BEGIN:VCALENDAR
VERSION:2.0
PRODID:spatie/icalendar-generator
DESCRIPTION:Events from Igreja Açores
X-WR-CALDESC:Events from Igreja Açores
REFRESH-INTERVAL;VALUE=DURATION:PT1440M
X-PUBLISHED-TTL:PT1440M
BEGIN:VTIMEZONE
TZID:Etc/GMT+0
BEGIN:STANDARD
DTSTART:20230520T000000Z
TZOFFSETFROM:+0000
TZOFFSETTO:+0000
END:STANDARD
END:VTIMEZONE
BEGIN:VTIMEZONE
TZID:UTC
BEGIN:STANDARD
DTSTART:20250724T211523Z
TZOFFSETFROM:+0000
TZOFFSETTO:+0000
END:STANDARD
END:VTIMEZONE
BEGIN:VEVENT
UID:222-215
DTSTAMP:20260420T211523Z
SUMMARY:Quarta-feira de cinzas- Inicio da Quaresma
LOCATION:
ORGANIZER;CN=Carmo Rodeia:MAILTO:carmorodeia@igrejaacores.pt
DTSTART;TZID=Etc/GMT+0:20240214T000000
DTEND;TZID=Etc/GMT+0:20240214T010000
X-ALT-DESC;FMTTYPE=TEXT/HTML:
CATEGORIES:Diocese
URL;VALUE=URI:https://www.igrejaacores.pt/mc-events/quarta-feira-de-cinzas-
 inicio-da-quaresma/
METHOD:PUBLISH
END:VEVENT
END:VCALENDAR