BEGIN:VCALENDAR
VERSION:2.0
PRODID:spatie/icalendar-generator
DESCRIPTION:Events from Igreja Açores
X-WR-CALDESC:Events from Igreja Açores
REFRESH-INTERVAL;VALUE=DURATION:PT1440M
X-PUBLISHED-TTL:PT1440M
BEGIN:VTIMEZONE
TZID:Etc/GMT+0
BEGIN:STANDARD
DTSTART:20230412T000000Z
TZOFFSETFROM:+0000
TZOFFSETTO:+0000
END:STANDARD
END:VTIMEZONE
BEGIN:VTIMEZONE
TZID:UTC
BEGIN:STANDARD
DTSTART:20250724T192029Z
TZOFFSETFROM:+0000
TZOFFSETTO:+0000
END:STANDARD
END:VTIMEZONE
BEGIN:VEVENT
UID:291-283
DTSTAMP:20260420T192029Z
SUMMARY:Instituição de Ministros Extraordinários da Comunhão
LOCATION:
ORGANIZER;CN=Carmo Rodeia:MAILTO:carmorodeia@igrejaacores.pt
DTSTART;TZID=Etc/GMT+0;VALUE=DATE:20240107
DTEND;TZID=Etc/GMT+0;VALUE=DATE:20240108
X-ALT-DESC;FMTTYPE=TEXT/HTML:São jorge
CATEGORIES:Agenda do Bispo,  Ouvidorias
URL;VALUE=URI:https://www.igrejaacores.pt/mc-events/instituicao-de-ministro
 s-extraordinarios-da-comunhao/
METHOD:PUBLISH
END:VEVENT
END:VCALENDAR