BEGIN:VCALENDAR
VERSION:2.0
PRODID:spatie/icalendar-generator
DESCRIPTION:Events from Igreja Açores
X-WR-CALDESC:Events from Igreja Açores
REFRESH-INTERVAL;VALUE=DURATION:PT1440M
X-PUBLISHED-TTL:PT1440M
BEGIN:VTIMEZONE
TZID:Etc/GMT+0
BEGIN:STANDARD
DTSTART:20230608T150000Z
TZOFFSETFROM:+0000
TZOFFSETTO:+0000
END:STANDARD
END:VTIMEZONE
BEGIN:VTIMEZONE
TZID:UTC
BEGIN:STANDARD
DTSTART:20250725T185952Z
TZOFFSETFROM:+0000
TZOFFSETTO:+0000
END:STANDARD
END:VTIMEZONE
BEGIN:VEVENT
UID:324-316
DTSTAMP:20260421T185952Z
SUMMARY:Universidade dos Açores: doutormaneto Honoris Causa de José Almei
 da Brás
LOCATION:
ORGANIZER;CN=Carmo Rodeia:MAILTO:carmorodeia@igrejaacores.pt
DTSTART;TZID=Etc/GMT+0:20240304T150000
DTEND;TZID=Etc/GMT+0:20240306T160000
X-ALT-DESC;FMTTYPE=TEXT/HTML:Bispo de Angra estará na Universidade dos Aç
 ores.
CATEGORIES:Agenda do Bispo
URL;VALUE=URI:https://www.igrejaacores.pt/mc-events/universidade-dos-acores
 -doutormaneto-honoris-causa-de-jose-almeida-bras/
METHOD:PUBLISH
END:VEVENT
END:VCALENDAR