BEGIN:VCALENDAR
VERSION:2.0
PRODID:spatie/icalendar-generator
DESCRIPTION:Events from Igreja Açores
X-WR-CALDESC:Events from Igreja Açores
REFRESH-INTERVAL;VALUE=DURATION:PT1440M
X-PUBLISHED-TTL:PT1440M
BEGIN:VTIMEZONE
TZID:Etc/GMT+0
BEGIN:STANDARD
DTSTART:20250224T000000Z
TZOFFSETFROM:+0000
TZOFFSETTO:+0000
END:STANDARD
END:VTIMEZONE
BEGIN:VTIMEZONE
TZID:UTC
BEGIN:STANDARD
DTSTART:20250727T044113Z
TZOFFSETFROM:+0000
TZOFFSETTO:+0000
END:STANDARD
END:VTIMEZONE
BEGIN:VEVENT
UID:435-427
DTSTAMP:20260423T044113Z
SUMMARY:21 - 23 Novembro 2025 Jubileu dos Coros
LOCATION:
ORGANIZER;CN=Carmo Rodeia:MAILTO:carmorodeia@igrejaacores.pt
DTSTART;TZID=Etc/GMT+0:20251121T000000
DTEND;TZID=Etc/GMT+0:20251123T010000
X-ALT-DESC;FMTTYPE=TEXT/HTML:Roma
CATEGORIES:Geral
URL;VALUE=URI:https://www.igrejaacores.pt/mc-events/21-23-novembro-2025-jub
 ileu-dos-coros/
METHOD:PUBLISH
END:VEVENT
END:VCALENDAR