BEGIN:VCALENDAR
VERSION:2.0
PRODID:spatie/icalendar-generator
DESCRIPTION:Events from Igreja Açores
X-WR-CALDESC:Events from Igreja Açores
REFRESH-INTERVAL;VALUE=DURATION:PT1440M
X-PUBLISHED-TTL:PT1440M
BEGIN:VTIMEZONE
TZID:Etc/GMT+0
BEGIN:STANDARD
DTSTART:20221105T000000Z
TZOFFSETFROM:+0000
TZOFFSETTO:+0000
END:STANDARD
END:VTIMEZONE
BEGIN:VTIMEZONE
TZID:UTC
BEGIN:STANDARD
DTSTART:20250724T221627Z
TZOFFSETFROM:+0000
TZOFFSETTO:+0000
END:STANDARD
END:VTIMEZONE
BEGIN:VEVENT
UID:76-76
DTSTAMP:20260420T221627Z
SUMMARY:Bispo de Angra participa na Jornada Mundial da Juventude de Lisboa
LOCATION:
ORGANIZER;CN=Carmo Rodeia:MAILTO:carmorodeia@igrejaacores.pt
DTSTART;TZID=Etc/GMT+0;VALUE=DATE:20230802
DTEND;TZID=Etc/GMT+0;VALUE=DATE:20230803
X-ALT-DESC;FMTTYPE=TEXT/HTML:
CATEGORIES:Agenda do Bispo
URL;VALUE=URI:https://www.igrejaacores.pt/mc-events/bispo-de-angra-particip
 a-na-jornada-mundial-da-juventude-de-lisboa/
METHOD:PUBLISH
END:VEVENT
END:VCALENDAR