BEGIN:VCALENDAR
VERSION:2.0
PRODID:spatie/icalendar-generator
DESCRIPTION:Events from Igreja Açores
X-WR-CALDESC:Events from Igreja Açores
REFRESH-INTERVAL;VALUE=DURATION:PT1440M
X-PUBLISHED-TTL:PT1440M
BEGIN:VTIMEZONE
TZID:Etc/GMT+0
BEGIN:STANDARD
DTSTART:20221214T213000Z
TZOFFSETFROM:+0000
TZOFFSETTO:+0000
END:STANDARD
END:VTIMEZONE
BEGIN:VTIMEZONE
TZID:UTC
BEGIN:STANDARD
DTSTART:20250724T222800Z
TZOFFSETFROM:+0000
TZOFFSETTO:+0000
END:STANDARD
END:VTIMEZONE
BEGIN:VEVENT
UID:77-77
DTSTAMP:20260420T222800Z
SUMMARY:Peregrinação Internacional Aniversária de Setembro
LOCATION:
ORGANIZER;CN=Carmo Rodeia:MAILTO:carmorodeia@igrejaacores.pt
DTSTART;TZID=Etc/GMT+0:20230910T213000
DTEND;TZID=Etc/GMT+0:20230912T130000
X-ALT-DESC;FMTTYPE=TEXT/HTML:O bispo de Angra preside à Peregrinação Int
 ernacional Aniversária em Fátima nos dias 12 e 13 de setembro\, assinala
 ndo a 5ª Aparição de Nossa Senhora aos Pastorinhos.
CATEGORIES:Agenda do Bispo
URL;VALUE=URI:https://www.igrejaacores.pt/mc-events/peregrinacao-internacio
 nal-aniversaria-de-setembro/
METHOD:PUBLISH
END:VEVENT
END:VCALENDAR