BEGIN:VCALENDAR
VERSION:2.0
PRODID:spatie/icalendar-generator
DESCRIPTION:Events from Igreja Açores
X-WR-CALDESC:Events from Igreja Açores
REFRESH-INTERVAL;VALUE=DURATION:PT1440M
X-PUBLISHED-TTL:PT1440M
BEGIN:VTIMEZONE
TZID:Etc/GMT+0
BEGIN:STANDARD
DTSTART:20240615T183000Z
TZOFFSETFROM:+0000
TZOFFSETTO:+0000
END:STANDARD
END:VTIMEZONE
BEGIN:VTIMEZONE
TZID:UTC
BEGIN:STANDARD
DTSTART:20250728T101748Z
TZOFFSETFROM:+0000
TZOFFSETTO:+0000
END:STANDARD
END:VTIMEZONE
BEGIN:VEVENT
UID:796-771
DTSTAMP:20260424T101748Z
SUMMARY:Novena dos Espinhos
LOCATION:
ORGANIZER;CN=Carmo Rodeia:MAILTO:carmorodeia@igrejaacores.pt
DTSTART;TZID=Etc/GMT+0:20250312T183000
DTEND;TZID=Etc/GMT+0:20250321T193000
X-ALT-DESC;FMTTYPE=TEXT/HTML:Dia 12 de março\, no Santuário do senhor San
 to Cristo\, em Ponta Delgada.
CATEGORIES:Ouvidorias
URL;VALUE=URI:https://www.igrejaacores.pt/mc-events/novena-dos-espinhos-4/
METHOD:PUBLISH
END:VEVENT
END:VCALENDAR