BEGIN:VCALENDAR
VERSION:2.0
PRODID:spatie/icalendar-generator
DESCRIPTION:Events from Igreja Açores
X-WR-CALDESC:Events from Igreja Açores
REFRESH-INTERVAL;VALUE=DURATION:PT1440M
X-PUBLISHED-TTL:PT1440M
BEGIN:VTIMEZONE
TZID:Etc/GMT+0
BEGIN:STANDARD
DTSTART:20250221T000000Z
TZOFFSETFROM:+0000
TZOFFSETTO:+0000
END:STANDARD
END:VTIMEZONE
BEGIN:VTIMEZONE
TZID:UTC
BEGIN:STANDARD
DTSTART:20250727T025242Z
TZOFFSETFROM:+0000
TZOFFSETTO:+0000
END:STANDARD
END:VTIMEZONE
BEGIN:VEVENT
UID:829-804
DTSTAMP:20260423T025242Z
SUMMARY:Encontro Diocesano de Ouvidores
LOCATION:
ORGANIZER;CN=Carmo Rodeia:MAILTO:carmorodeia@igrejaacores.pt
DTSTART;TZID=Etc/GMT+0:20251118T000000
DTEND;TZID=Etc/GMT+0:20251119T010000
X-ALT-DESC;FMTTYPE=TEXT/HTML:Centro Pastoral Pio XII
CATEGORIES:Diocese
URL;VALUE=URI:https://www.igrejaacores.pt/mc-events/encontro-diocesano-de-o
 uvidores/
METHOD:PUBLISH
END:VEVENT
END:VCALENDAR