BEGIN:VCALENDAR
VERSION:2.0
PRODID:spatie/icalendar-generator
DESCRIPTION:Events from Igreja Açores
X-WR-CALDESC:Events from Igreja Açores
REFRESH-INTERVAL;VALUE=DURATION:PT1440M
X-PUBLISHED-TTL:PT1440M
BEGIN:VTIMEZONE
TZID:Etc/GMT+0
BEGIN:STANDARD
DTSTART:20250508T000000Z
TZOFFSETFROM:+0000
TZOFFSETTO:+0000
END:STANDARD
END:VTIMEZONE
BEGIN:VTIMEZONE
TZID:UTC
BEGIN:STANDARD
DTSTART:20250726T193123Z
TZOFFSETFROM:+0000
TZOFFSETTO:+0000
END:STANDARD
END:VTIMEZONE
BEGIN:VEVENT
UID:869-844
DTSTAMP:20260422T193123Z
SUMMARY:Apresentação do Senhor- Dia do Consagrado
LOCATION:
ORGANIZER;CN=Carmo Rodeia:MAILTO:carmorodeia@igrejaacores.pt
DTSTART;TZID=Etc/GMT+0:20260202T000000
DTEND;TZID=Etc/GMT+0:20260202T010000
X-ALT-DESC;FMTTYPE=TEXT/HTML:
CATEGORIES:Geral
URL;VALUE=URI:https://www.igrejaacores.pt/mc-events/apresentacao-do-senhor-
 dia-do-consagrado/
METHOD:PUBLISH
END:VEVENT
END:VCALENDAR