BEGIN:VCALENDAR
VERSION:2.0
PRODID:spatie/icalendar-generator
DESCRIPTION:Events from Igreja Açores
X-WR-CALDESC:Events from Igreja Açores
REFRESH-INTERVAL;VALUE=DURATION:PT1440M
X-PUBLISHED-TTL:PT1440M
BEGIN:VTIMEZONE
TZID:Etc/GMT+0
BEGIN:STANDARD
DTSTART:20250515T000000Z
TZOFFSETFROM:+0000
TZOFFSETTO:+0000
END:STANDARD
END:VTIMEZONE
BEGIN:VTIMEZONE
TZID:UTC
BEGIN:STANDARD
DTSTART:20250726T203940Z
TZOFFSETFROM:+0000
TZOFFSETTO:+0000
END:STANDARD
END:VTIMEZONE
BEGIN:VEVENT
UID:870-845
DTSTAMP:20260422T203940Z
SUMMARY:Conselho Presbiteral e Encontro de Ouvidores
LOCATION:
ORGANIZER;CN=Carmo Rodeia:MAILTO:carmorodeia@igrejaacores.pt
DTSTART;TZID=Etc/GMT+0:20260209T000000
DTEND;TZID=Etc/GMT+0:20260211T010000
X-ALT-DESC;FMTTYPE=TEXT/HTML:Hotel de Santa Catarina\, Angra do Heroísmo\,
  ilha Terceira
CATEGORIES:Diocese
URL;VALUE=URI:https://www.igrejaacores.pt/mc-events/conselho-presbiteral-e-
 encontro-de-ouvidores/
METHOD:PUBLISH
END:VEVENT
END:VCALENDAR