BEGIN:VCALENDAR
VERSION:2.0
PRODID:spatie/icalendar-generator
DESCRIPTION:Events from Igreja Açores
X-WR-CALDESC:Events from Igreja Açores
REFRESH-INTERVAL;VALUE=DURATION:PT1440M
X-PUBLISHED-TTL:PT1440M
BEGIN:VTIMEZONE
TZID:Etc/GMT+0
BEGIN:STANDARD
DTSTART:20251009T000000Z
TZOFFSETFROM:+0000
TZOFFSETTO:+0000
END:STANDARD
END:VTIMEZONE
BEGIN:VTIMEZONE
TZID:UTC
BEGIN:STANDARD
DTSTART:20250727T045526Z
TZOFFSETFROM:+0000
TZOFFSETTO:+0000
END:STANDARD
END:VTIMEZONE
BEGIN:VEVENT
UID:876-851
DTSTAMP:20260423T045526Z
SUMMARY:Jornada da ATIEM (Associação Teólogos de Moralistas)
LOCATION:
ORGANIZER;CN=Carmo Rodeia:MAILTO:carmorodeia@igrejaacores.pt
DTSTART;TZID=Etc/GMT+0:20260706T000000
DTEND;TZID=Etc/GMT+0:20260710T010000
X-ALT-DESC;FMTTYPE=TEXT/HTML:Ponta Delgada- Centro pastoral Pio XII
CATEGORIES:Diocese
URL;VALUE=URI:https://www.igrejaacores.pt/mc-events/jornada-da-atiem-associ
 acao-teologos-de-moralistas/
METHOD:PUBLISH
END:VEVENT
END:VCALENDAR