BEGIN:VCALENDAR
VERSION:2.0
PRODID:spatie/icalendar-generator
DESCRIPTION:Events from Igreja Açores
X-WR-CALDESC:Events from Igreja Açores
REFRESH-INTERVAL;VALUE=DURATION:PT1440M
X-PUBLISHED-TTL:PT1440M
BEGIN:VTIMEZONE
TZID:Etc/GMT+0
BEGIN:STANDARD
DTSTART:20250811T000000Z
TZOFFSETFROM:+0000
TZOFFSETTO:+0000
END:STANDARD
END:VTIMEZONE
BEGIN:VTIMEZONE
TZID:UTC
BEGIN:STANDARD
DTSTART:20250726T222042Z
TZOFFSETFROM:+0000
TZOFFSETTO:+0000
END:STANDARD
END:VTIMEZONE
BEGIN:VEVENT
UID:895-870
DTSTAMP:20260422T222042Z
SUMMARY:1º Aniversário da Eleição do Papa Leão XIV
LOCATION:
ORGANIZER;CN=Carmo Rodeia:MAILTO:carmorodeia@igrejaacores.pt
DTSTART;TZID=Etc/GMT+0:20260508T000000
DTEND;TZID=Etc/GMT+0:20260508T010000
X-ALT-DESC;FMTTYPE=TEXT/HTML:
CATEGORIES:Geral
URL;VALUE=URI:https://www.igrejaacores.pt/mc-events/1o-aniversario-da-eleic
 ao-do-papa-leao-xiv/
METHOD:PUBLISH
END:VEVENT
END:VCALENDAR