BEGIN:VCALENDAR
VERSION:2.0
PRODID:spatie/icalendar-generator
DESCRIPTION:Events from Igreja Açores
X-WR-CALDESC:Events from Igreja Açores
REFRESH-INTERVAL;VALUE=DURATION:PT1440M
X-PUBLISHED-TTL:PT1440M
BEGIN:VTIMEZONE
TZID:Etc/GMT+0
BEGIN:STANDARD
DTSTART:20250825T000000Z
TZOFFSETFROM:+0000
TZOFFSETTO:+0000
END:STANDARD
END:VTIMEZONE
BEGIN:VTIMEZONE
TZID:UTC
BEGIN:STANDARD
DTSTART:20250726T222405Z
TZOFFSETFROM:+0000
TZOFFSETTO:+0000
END:STANDARD
END:VTIMEZONE
BEGIN:VEVENT
UID:901-876
DTSTAMP:20260422T222405Z
SUMMARY:Solenidade do Beato João Baptista Machado
LOCATION:
ORGANIZER;CN=Carmo Rodeia:MAILTO:carmorodeia@igrejaacores.pt
DTSTART;TZID=Etc/GMT+0:20260522T000000
DTEND;TZID=Etc/GMT+0:20260522T010000
X-ALT-DESC;FMTTYPE=TEXT/HTML:
CATEGORIES:Diocese
URL;VALUE=URI:https://www.igrejaacores.pt/mc-events/solenidade-do-beato-joa
 o-baptista-machado/
METHOD:PUBLISH
END:VEVENT
END:VCALENDAR