BEGIN:VCALENDAR
VERSION:2.0
PRODID:spatie/icalendar-generator
DESCRIPTION:Events from Igreja Açores
X-WR-CALDESC:Events from Igreja Açores
REFRESH-INTERVAL;VALUE=DURATION:PT1440M
X-PUBLISHED-TTL:PT1440M
BEGIN:VTIMEZONE
TZID:Etc/GMT+0
BEGIN:STANDARD
DTSTART:20250507T000000Z
TZOFFSETFROM:+0000
TZOFFSETTO:+0000
END:STANDARD
END:VTIMEZONE
BEGIN:VTIMEZONE
TZID:UTC
BEGIN:STANDARD
DTSTART:20250726T191357Z
TZOFFSETFROM:+0000
TZOFFSETTO:+0000
END:STANDARD
END:VTIMEZONE
BEGIN:VEVENT
UID:941-916
DTSTAMP:20260422T191357Z
SUMMARY:Missão País em Vila Franca do Campo
LOCATION:
ORGANIZER;CN=Carmo Rodeia:MAILTO:carmorodeia@igrejaacores.pt
DTSTART;TZID=Etc/GMT+0:20260201T000000
DTEND;TZID=Etc/GMT+0:20260208T010000
X-ALT-DESC;FMTTYPE=TEXT/HTML:(terceiro ano)
CATEGORIES:Ouvidorias
URL;VALUE=URI:https://www.igrejaacores.pt/mc-events/missao-pais-em-vila-fra
 nca-do-campo/
METHOD:PUBLISH
END:VEVENT
END:VCALENDAR