BEGIN:VCALENDAR
VERSION:2.0
PRODID:spatie/icalendar-generator
DESCRIPTION:Events from Igreja Açores
X-WR-CALDESC:Events from Igreja Açores
REFRESH-INTERVAL;VALUE=DURATION:PT1440M
X-PUBLISHED-TTL:PT1440M
BEGIN:VTIMEZONE
TZID:Etc/GMT+0
BEGIN:STANDARD
DTSTART:20250412T200000Z
TZOFFSETFROM:+0000
TZOFFSETTO:+0000
END:STANDARD
END:VTIMEZONE
BEGIN:VTIMEZONE
TZID:UTC
BEGIN:STANDARD
DTSTART:20250726T223808Z
TZOFFSETFROM:+0000
TZOFFSETTO:+0000
END:STANDARD
END:VTIMEZONE
BEGIN:VEVENT
UID:964-939
DTSTAMP:20260422T223808Z
SUMMARY:Escola Bíblica de Angra
LOCATION:
ORGANIZER;CN=Carmo Rodeia:MAILTO:carmorodeia@igrejaacores.pt
DTSTART;TZID=Etc/GMT+0:20260107T200000
DTEND;TZID=Etc/GMT+0:20260107T220000
X-ALT-DESC;FMTTYPE=TEXT/HTML:Centro Pastoral João Batista Machado. Livro d
 os Atos dos Apóstolos.
CATEGORIES:Serviços Diocesanos
URL;VALUE=URI:https://www.igrejaacores.pt/mc-events/escola-biblica-de-angra
 -4/
METHOD:PUBLISH
END:VEVENT
END:VCALENDAR